BEGIN:VCALENDAR
VERSION:2.0
PRODID:-//AG Sieraden Sensatie//NL
BEGIN:VEVENT
UID:69eb617c0c892@agsieraden.nl
DTSTAMP:20260424T122636Z
DTSTART:20260801T080000Z
DTEND:20260801T140000Z
SUMMARY:Strandmarkt Langweer 2026
DESCRIPTION:Zin in een gezellige zomerdag aan het water? Kom dan op zaterdag 1 augustus 2026 naar de Strandmarkt in Langweer. Daar sta ik met mijn handgemaakte sieraden van AG Sieraden Sensatie\, vol kleur\,...
LOCATION:Strand Langweer 
STATUS:CONFIRMED
BEGIN:VALARM
TRIGGER:-PT24H
ACTION:DISPLAY
DESCRIPTION:Herinnering
END:VALARM
END:VEVENT
END:VCALENDAR
