BEGIN:VCALENDAR
VERSION:2.0
PRODID:-//AG Sieraden Sensatie//NL
BEGIN:VEVENT
UID:69eb617b939df@agsieraden.nl
DTSTAMP:20260424T122635Z
DTSTART:20260620T080000Z
DTEND:20260620T150000Z
SUMMARY:Markt Amsterdamse dag 2026 Langweer
DESCRIPTION:Kom op Zaterdag 20 juni 2026 naar de Amsterdamse Dag in Langweer! Hallo allemaal! Ik ben mega enthousiast om te vertellen dat ik op zaterdag 20juni 2026 helemaal klaar ben om mijn sprankelende...
LOCATION:Buorren Langweer 
STATUS:CONFIRMED
BEGIN:VALARM
TRIGGER:-PT24H
ACTION:DISPLAY
DESCRIPTION:Herinnering
END:VALARM
END:VEVENT
END:VCALENDAR
